Package: HumanAffyData Version: 1.37.0 Command: /home/biocbuild/bbs-3.23-bioc/R/bin/R CMD build --keep-empty-dirs --no-resave-data HumanAffyData StartedAt: 2025-11-13 11:25:00 -0500 (Thu, 13 Nov 2025) EndedAt: 2025-11-13 11:25:25 -0500 (Thu, 13 Nov 2025) EllapsedTime: 25.4 seconds RetCode: 0 Status: OK PackageFile: HumanAffyData_1.37.0.tar.gz PackageFileSize: 157.4 KiB