Package: Hiiragi2013 Version: 1.47.0 Command: /home/biocbuild/bbs-3.23-bioc/R/bin/R CMD INSTALL Hiiragi2013 StartedAt: 2025-11-11 10:57:32 -0500 (Tue, 11 Nov 2025) EndedAt: 2025-11-11 10:57:50 -0500 (Tue, 11 Nov 2025) EllapsedTime: 18.0 seconds RetCode: 0 Status: OK