Package: Hiiragi2013 Version: 1.47.0 Command: /home/biocbuild/bbs-3.23-bioc/R/bin/R CMD check --install=check:Hiiragi2013.install-out.txt --library=/home/biocbuild/bbs-3.23-bioc/R/site-library --timings Hiiragi2013_1.47.0.tar.gz StartedAt: 2025-11-11 12:28:03 -0500 (Tue, 11 Nov 2025) EndedAt: 2025-11-11 12:36:54 -0500 (Tue, 11 Nov 2025) EllapsedTime: 531.3 seconds RetCode: 0 Status: WARNINGS CheckDir: Hiiragi2013.Rcheck Warnings: 1