Package: Hiiragi2013 Version: 1.47.0 Command: /home/biocbuild/bbs-3.23-bioc/R/bin/R CMD build --keep-empty-dirs --no-resave-data Hiiragi2013 StartedAt: 2025-11-11 11:24:14 -0500 (Tue, 11 Nov 2025) EndedAt: 2025-11-11 11:30:08 -0500 (Tue, 11 Nov 2025) EllapsedTime: 354.5 seconds RetCode: 0 Status: OK PackageFile: Hiiragi2013_1.47.0.tar.gz PackageFileSize: 139.1 MiB