Package: HighlyReplicatedRNASeq Version: 1.23.0 Command: /home/biocbuild/bbs-3.23-bioc/R/bin/R CMD build --keep-empty-dirs --no-resave-data HighlyReplicatedRNASeq StartedAt: 2025-11-11 11:24:02 -0500 (Tue, 11 Nov 2025) EndedAt: 2025-11-11 11:25:02 -0500 (Tue, 11 Nov 2025) EllapsedTime: 60.2 seconds RetCode: 0 Status: OK PackageFile: HighlyReplicatedRNASeq_1.23.0.tar.gz PackageFileSize: 468.5 KiB