Package: HiCDataLymphoblast Version: 1.47.0 Command: /home/biocbuild/bbs-3.23-bioc/R/bin/R CMD check --install=check:HiCDataLymphoblast.install-out.txt --library=/home/biocbuild/bbs-3.23-bioc/R/site-library --timings HiCDataLymphoblast_1.47.0.tar.gz StartedAt: 2025-11-11 12:27:41 -0500 (Tue, 11 Nov 2025) EndedAt: 2025-11-11 12:28:04 -0500 (Tue, 11 Nov 2025) EllapsedTime: 22.9 seconds RetCode: 0 Status: OK CheckDir: HiCDataLymphoblast.Rcheck Warnings: 0