Package: HiCDataHumanIMR90 Version: 1.31.0 Command: /home/biocbuild/bbs-3.23-bioc/R/bin/R CMD INSTALL HiCDataHumanIMR90 StartedAt: 2025-11-11 10:55:47 -0500 (Tue, 11 Nov 2025) EndedAt: 2025-11-11 10:55:49 -0500 (Tue, 11 Nov 2025) EllapsedTime: 1.8 seconds RetCode: 0 Status: OK