Package: HiBED Version: 1.9.0 Command: /home/biocbuild/bbs-3.23-bioc/R/bin/R CMD check --install=check:HiBED.install-out.txt --library=/home/biocbuild/bbs-3.23-bioc/R/site-library --timings HiBED_1.9.0.tar.gz StartedAt: 2025-11-11 12:27:22 -0500 (Tue, 11 Nov 2025) EndedAt: 2025-11-11 12:33:20 -0500 (Tue, 11 Nov 2025) EllapsedTime: 358.2 seconds RetCode: 0 Status: OK CheckDir: HiBED.Rcheck Warnings: 0