Package: HarmonizedTCGAData Version: 1.33.0 Command: /home/biocbuild/bbs-3.23-bioc/R/bin/R CMD INSTALL HarmonizedTCGAData StartedAt: 2025-11-11 10:56:51 -0500 (Tue, 11 Nov 2025) EndedAt: 2025-11-11 10:57:04 -0500 (Tue, 11 Nov 2025) EllapsedTime: 12.7 seconds RetCode: 0 Status: OK