Package: HarmonizedTCGAData Version: 1.33.0 Command: /home/biocbuild/bbs-3.23-bioc/R/bin/R CMD check --install=check:HarmonizedTCGAData.install-out.txt --library=/home/biocbuild/bbs-3.23-bioc/R/site-library --timings HarmonizedTCGAData_1.33.0.tar.gz StartedAt: 2025-11-11 12:25:33 -0500 (Tue, 11 Nov 2025) EndedAt: 2025-11-11 12:27:46 -0500 (Tue, 11 Nov 2025) EllapsedTime: 132.7 seconds RetCode: 0 Status: OK CheckDir: HarmonizedTCGAData.Rcheck Warnings: 0