Package: HarmanData Version: 1.39.0 Command: /home/biocbuild/bbs-3.23-bioc/R/bin/R CMD INSTALL HarmanData StartedAt: 2025-11-11 10:55:31 -0500 (Tue, 11 Nov 2025) EndedAt: 2025-11-11 10:55:48 -0500 (Tue, 11 Nov 2025) EllapsedTime: 16.3 seconds RetCode: 0 Status: OK