Package: HarmanData Version: 1.39.0 Command: /home/biocbuild/bbs-3.23-bioc/R/bin/R CMD check --install=check:HarmanData.install-out.txt --library=/home/biocbuild/bbs-3.23-bioc/R/site-library --timings HarmanData_1.39.0.tar.gz StartedAt: 2025-11-13 12:29:12 -0500 (Thu, 13 Nov 2025) EndedAt: 2025-11-13 12:29:45 -0500 (Thu, 13 Nov 2025) EllapsedTime: 32.5 seconds RetCode: 0 Status: OK CheckDir: HarmanData.Rcheck Warnings: 0