Package: HSMMSingleCell Version: 1.31.0 Command: /home/biocbuild/bbs-3.23-bioc/R/bin/R CMD check --install=check:HSMMSingleCell.install-out.txt --library=/home/biocbuild/bbs-3.23-bioc/R/site-library --timings HSMMSingleCell_1.31.0.tar.gz StartedAt: 2025-11-11 12:29:39 -0500 (Tue, 11 Nov 2025) EndedAt: 2025-11-11 12:30:46 -0500 (Tue, 11 Nov 2025) EllapsedTime: 66.6 seconds RetCode: 0 Status: WARNINGS CheckDir: HSMMSingleCell.Rcheck Warnings: 3