Package: HMP2Data Version: 1.25.0 Command: /home/biocbuild/bbs-3.23-bioc/R/bin/R CMD INSTALL HMP2Data StartedAt: 2025-11-13 11:00:33 -0500 (Thu, 13 Nov 2025) EndedAt: 2025-11-13 11:01:10 -0500 (Thu, 13 Nov 2025) EllapsedTime: 37.2 seconds RetCode: 0 Status: OK