Package: HMP2Data Version: 1.25.0 Maintainer: John Stansfield , Ekaterina Smirnova MaintainerEmail: ekaterina.smirnova at vcuhealth.org git_url: https://git.bioconductor.org/packages/HMP2Data git_branch: devel git_last_commit: 44221c0 git_last_commit_date: 2025-10-29 10:01:37 -0500 (Wed, 29 Oct 2025)