Package: HIVcDNAvantWout03 Version: 1.51.0 Command: /home/biocbuild/bbs-3.23-bioc/R/bin/R CMD check --install=check:HIVcDNAvantWout03.install-out.txt --library=/home/biocbuild/bbs-3.23-bioc/R/site-library --timings HIVcDNAvantWout03_1.51.0.tar.gz StartedAt: 2025-11-11 12:28:04 -0500 (Tue, 11 Nov 2025) EndedAt: 2025-11-11 12:28:15 -0500 (Tue, 11 Nov 2025) EllapsedTime: 11.0 seconds RetCode: 0 Status: WARNINGS CheckDir: HIVcDNAvantWout03.Rcheck Warnings: 1