Package: HEEBOdata Version: 1.49.0 Command: /home/biocbuild/bbs-3.23-bioc/R/bin/R CMD build --keep-empty-dirs --no-resave-data HEEBOdata StartedAt: 2025-11-11 11:23:20 -0500 (Tue, 11 Nov 2025) EndedAt: 2025-11-11 11:23:26 -0500 (Tue, 11 Nov 2025) EllapsedTime: 5.7 seconds RetCode: 0 Status: OK PackageFile: HEEBOdata_1.49.0.tar.gz PackageFileSize: 8.269 MiB