Package: HDCytoData Version: 1.31.0 Command: /home/biocbuild/bbs-3.23-bioc/R/bin/R CMD check --install=check:HDCytoData.install-out.txt --library=/home/biocbuild/bbs-3.23-bioc/R/site-library --timings HDCytoData_1.31.0.tar.gz StartedAt: 2025-11-13 12:29:42 -0500 (Thu, 13 Nov 2025) EndedAt: 2025-11-13 12:35:38 -0500 (Thu, 13 Nov 2025) EllapsedTime: 355.8 seconds RetCode: 0 Status: OK CheckDir: HDCytoData.Rcheck Warnings: 0