Package: HD2013SGI Version: 1.51.0 Command: /home/biocbuild/bbs-3.23-bioc/R/bin/R CMD INSTALL HD2013SGI StartedAt: 2025-11-13 10:57:51 -0500 (Thu, 13 Nov 2025) EndedAt: 2025-11-13 10:58:08 -0500 (Thu, 13 Nov 2025) EllapsedTime: 17.0 seconds RetCode: 0 Status: OK