Package: HCATonsilData Version: 1.9.0 Command: /home/biocbuild/bbs-3.23-bioc/R/bin/R CMD INSTALL HCATonsilData StartedAt: 2025-11-13 11:02:50 -0500 (Thu, 13 Nov 2025) EndedAt: 2025-11-13 11:03:22 -0500 (Thu, 13 Nov 2025) EllapsedTime: 31.8 seconds RetCode: 0 Status: OK