Package: HCAData Version: 1.27.0 Command: /home/biocbuild/bbs-3.23-bioc/R/bin/R CMD INSTALL HCAData StartedAt: 2025-11-11 11:02:36 -0500 (Tue, 11 Nov 2025) EndedAt: 2025-11-11 11:03:06 -0500 (Tue, 11 Nov 2025) EllapsedTime: 29.8 seconds RetCode: 0 Status: OK