Package: GeuvadisTranscriptExpr Version: 1.39.0 Command: /home/biocbuild/bbs-3.23-bioc/R/bin/R CMD build --keep-empty-dirs --no-resave-data GeuvadisTranscriptExpr StartedAt: 2025-11-11 11:19:57 -0500 (Tue, 11 Nov 2025) EndedAt: 2025-11-11 11:20:29 -0500 (Tue, 11 Nov 2025) EllapsedTime: 32.9 seconds RetCode: 0 Status: OK PackageFile: GeuvadisTranscriptExpr_1.39.0.tar.gz PackageFileSize: 7.202 MiB