Package: GenomicDistributionsData Version: 1.19.0 Command: /home/biocbuild/bbs-3.23-bioc/R/bin/R CMD build --keep-empty-dirs --no-resave-data GenomicDistributionsData StartedAt: 2025-11-11 11:19:56 -0500 (Tue, 11 Nov 2025) EndedAt: 2025-11-11 11:20:52 -0500 (Tue, 11 Nov 2025) EllapsedTime: 55.8 seconds RetCode: 0 Status: OK PackageFile: GenomicDistributionsData_1.19.0.tar.gz PackageFileSize: 228.7 KiB