Package: GWASdata Version: 1.49.0 Command: /home/biocbuild/bbs-3.23-bioc/R/bin/R CMD INSTALL GWASdata StartedAt: 2025-11-11 11:04:00 -0500 (Tue, 11 Nov 2025) EndedAt: 2025-11-11 11:04:08 -0500 (Tue, 11 Nov 2025) EllapsedTime: 8.4 seconds RetCode: 0 Status: OK