Package: GWASdata Version: 1.49.0 Command: /home/biocbuild/bbs-3.23-bioc/R/bin/R CMD check --install=check:GWASdata.install-out.txt --library=/home/biocbuild/bbs-3.23-bioc/R/site-library --timings GWASdata_1.49.0.tar.gz StartedAt: 2025-11-11 12:24:28 -0500 (Tue, 11 Nov 2025) EndedAt: 2025-11-11 12:25:10 -0500 (Tue, 11 Nov 2025) EllapsedTime: 41.6 seconds RetCode: 0 Status: OK CheckDir: GWASdata.Rcheck Warnings: 0