Package: GSVAdata Version: 1.47.1 Command: /home/biocbuild/bbs-3.23-bioc/R/bin/R CMD INSTALL GSVAdata StartedAt: 2025-11-13 10:58:19 -0500 (Thu, 13 Nov 2025) EndedAt: 2025-11-13 10:58:37 -0500 (Thu, 13 Nov 2025) EllapsedTime: 18.6 seconds RetCode: 0 Status: OK