Package: GSVAdata Version: 1.47.1 Command: /home/biocbuild/bbs-3.23-bioc/R/bin/R CMD check --install=check:GSVAdata.install-out.txt --library=/home/biocbuild/bbs-3.23-bioc/R/site-library --timings GSVAdata_1.47.1.tar.gz StartedAt: 2025-11-11 12:24:20 -0500 (Tue, 11 Nov 2025) EndedAt: 2025-11-11 12:25:45 -0500 (Tue, 11 Nov 2025) EllapsedTime: 85.8 seconds RetCode: 0 Status: OK CheckDir: GSVAdata.Rcheck Warnings: 0