Package: GSE62944 Version: 1.39.0 Command: /home/biocbuild/bbs-3.23-bioc/R/bin/R CMD INSTALL GSE62944 StartedAt: 2025-11-11 10:59:48 -0500 (Tue, 11 Nov 2025) EndedAt: 2025-11-11 11:00:02 -0500 (Tue, 11 Nov 2025) EllapsedTime: 14.7 seconds RetCode: 0 Status: OK