Package: GSE159526 Version: 1.17.0 Command: /home/biocbuild/bbs-3.23-bioc/R/bin/R CMD check --install=check:GSE159526.install-out.txt --library=/home/biocbuild/bbs-3.23-bioc/R/site-library --timings GSE159526_1.17.0.tar.gz StartedAt: 2025-11-13 12:27:29 -0500 (Thu, 13 Nov 2025) EndedAt: 2025-11-13 12:27:52 -0500 (Thu, 13 Nov 2025) EllapsedTime: 23.2 seconds RetCode: 0 Status: OK CheckDir: GSE159526.Rcheck Warnings: 0