Package: GSE13015 Version: 1.19.0 Command: /home/biocbuild/bbs-3.23-bioc/R/bin/R CMD INSTALL GSE13015 StartedAt: 2025-11-13 10:58:44 -0500 (Thu, 13 Nov 2025) EndedAt: 2025-11-13 10:59:00 -0500 (Thu, 13 Nov 2025) EllapsedTime: 15.4 seconds RetCode: 0 Status: OK