Package: GSE13015 Version: 1.19.0 Command: /home/biocbuild/bbs-3.23-bioc/R/bin/R CMD check --install=check:GSE13015.install-out.txt --library=/home/biocbuild/bbs-3.23-bioc/R/site-library --timings GSE13015_1.19.0.tar.gz StartedAt: 2025-11-13 12:27:20 -0500 (Thu, 13 Nov 2025) EndedAt: 2025-11-13 12:29:08 -0500 (Thu, 13 Nov 2025) EllapsedTime: 107.4 seconds RetCode: 0 Status: OK CheckDir: GSE13015.Rcheck Warnings: 0