Package: GSE13015 Version: 1.19.0 Command: /home/biocbuild/bbs-3.23-bioc/R/bin/R CMD build --keep-empty-dirs --no-resave-data GSE13015 StartedAt: 2025-11-13 11:20:41 -0500 (Thu, 13 Nov 2025) EndedAt: 2025-11-13 11:21:11 -0500 (Thu, 13 Nov 2025) EllapsedTime: 30.1 seconds RetCode: 0 Status: OK PackageFile: GSE13015_1.19.0.tar.gz PackageFileSize: 218.5 KiB