Package: GSBenchMark Version: 1.31.0 Command: /home/biocbuild/bbs-3.23-bioc/R/bin/R CMD build --keep-empty-dirs --no-resave-data GSBenchMark StartedAt: 2025-11-11 11:20:12 -0500 (Tue, 11 Nov 2025) EndedAt: 2025-11-11 11:20:24 -0500 (Tue, 11 Nov 2025) EllapsedTime: 11.6 seconds RetCode: 0 Status: OK PackageFile: GSBenchMark_1.31.0.tar.gz PackageFileSize: 41.87 MiB