Package: FlowSorted.Blood.450k Version: 1.49.0 Command: /home/biocbuild/bbs-3.23-bioc/R/bin/R CMD INSTALL FlowSorted.Blood.450k StartedAt: 2025-11-11 11:01:39 -0500 (Tue, 11 Nov 2025) EndedAt: 2025-11-11 11:02:49 -0500 (Tue, 11 Nov 2025) EllapsedTime: 70.4 seconds RetCode: 0 Status: OK