Package: FlowSorted.Blood.450k Version: 1.49.0 Command: /home/biocbuild/bbs-3.23-bioc/R/bin/R CMD check --install=check:FlowSorted.Blood.450k.install-out.txt --library=/home/biocbuild/bbs-3.23-bioc/R/site-library --timings FlowSorted.Blood.450k_1.49.0.tar.gz StartedAt: 2025-11-11 12:20:10 -0500 (Tue, 11 Nov 2025) EndedAt: 2025-11-11 12:23:17 -0500 (Tue, 11 Nov 2025) EllapsedTime: 187.0 seconds RetCode: 0 Status: WARNINGS CheckDir: FlowSorted.Blood.450k.Rcheck Warnings: 1