Package: Fletcher2013b Version: 1.47.0 Command: /home/biocbuild/bbs-3.23-bioc/R/bin/R CMD INSTALL Fletcher2013b StartedAt: 2025-11-13 11:04:01 -0500 (Thu, 13 Nov 2025) EndedAt: 2025-11-13 11:04:30 -0500 (Thu, 13 Nov 2025) EllapsedTime: 28.6 seconds RetCode: 0 Status: OK