Package: Fletcher2013b Version: 1.47.0 Command: /home/biocbuild/bbs-3.23-bioc/R/bin/R CMD check --install=check:Fletcher2013b.install-out.txt --library=/home/biocbuild/bbs-3.23-bioc/R/site-library --timings Fletcher2013b_1.47.0.tar.gz StartedAt: 2025-11-11 12:20:09 -0500 (Tue, 11 Nov 2025) EndedAt: 2025-11-11 12:24:03 -0500 (Tue, 11 Nov 2025) EllapsedTime: 233.8 seconds RetCode: 0 Status: WARNINGS CheckDir: Fletcher2013b.Rcheck Warnings: 1