Package: Fletcher2013a Version: 1.47.0 Command: /home/biocbuild/bbs-3.23-bioc/R/bin/R CMD INSTALL Fletcher2013a StartedAt: 2025-11-11 10:56:22 -0500 (Tue, 11 Nov 2025) EndedAt: 2025-11-11 10:56:30 -0500 (Tue, 11 Nov 2025) EllapsedTime: 8.2 seconds RetCode: 0 Status: OK