Package: Fletcher2013a Version: 1.47.0 Command: /home/biocbuild/bbs-3.23-bioc/R/bin/R CMD check --install=check:Fletcher2013a.install-out.txt --library=/home/biocbuild/bbs-3.23-bioc/R/site-library --timings Fletcher2013a_1.47.0.tar.gz StartedAt: 2025-11-11 12:20:02 -0500 (Tue, 11 Nov 2025) EndedAt: 2025-11-11 12:20:53 -0500 (Tue, 11 Nov 2025) EllapsedTime: 51.2 seconds RetCode: 0 Status: OK CheckDir: Fletcher2013a.Rcheck Warnings: 0