Package: Fletcher2013a Version: 1.47.0 Command: /home/biocbuild/bbs-3.23-bioc/R/bin/R CMD build --keep-empty-dirs --no-resave-data Fletcher2013a StartedAt: 2025-11-11 11:17:40 -0500 (Tue, 11 Nov 2025) EndedAt: 2025-11-11 11:17:56 -0500 (Tue, 11 Nov 2025) EllapsedTime: 16.8 seconds RetCode: 0 Status: OK PackageFile: Fletcher2013a_1.47.0.tar.gz PackageFileSize: 73.39 MiB