Package: FANTOM3and4CAGE Version: 1.47.0 Command: /home/biocbuild/bbs-3.23-bioc/R/bin/R CMD check --install=check:FANTOM3and4CAGE.install-out.txt --library=/home/biocbuild/bbs-3.23-bioc/R/site-library --timings FANTOM3and4CAGE_1.47.0.tar.gz StartedAt: 2025-11-13 12:22:15 -0500 (Thu, 13 Nov 2025) EndedAt: 2025-11-13 12:23:29 -0500 (Thu, 13 Nov 2025) EllapsedTime: 74.1 seconds RetCode: 0 Status: OK CheckDir: FANTOM3and4CAGE.Rcheck Warnings: 0