Package: EpipwR.data Version: 1.5.0 Command: /home/biocbuild/bbs-3.23-bioc/R/bin/R CMD INSTALL EpipwR.data StartedAt: 2025-11-11 10:57:25 -0500 (Tue, 11 Nov 2025) EndedAt: 2025-11-11 10:57:26 -0500 (Tue, 11 Nov 2025) EllapsedTime: 1.0 seconds RetCode: 0 Status: OK