Package: EpipwR.data Version: 1.5.0 Command: /home/biocbuild/bbs-3.23-bioc/R/bin/R CMD build --keep-empty-dirs --no-resave-data EpipwR.data StartedAt: 2025-11-11 11:16:36 -0500 (Tue, 11 Nov 2025) EndedAt: 2025-11-11 11:16:40 -0500 (Tue, 11 Nov 2025) EllapsedTime: 4.0 seconds RetCode: 0 Status: OK PackageFile: EpipwR.data_1.5.0.tar.gz PackageFileSize: 8.336 KiB