Package: EpipwR.data Version: 1.5.0 Maintainer: Jackson Barth MaintainerEmail: Jackson_Barth at Baylor.edu git_url: https://git.bioconductor.org/packages/EpipwR.data git_branch: devel git_last_commit: dba6b48 git_last_commit_date: 2025-10-29 10:06:36 -0500 (Wed, 29 Oct 2025)