Package: EpiMix.data Version: 1.13.0 Command: /home/biocbuild/bbs-3.23-bioc/R/bin/R CMD INSTALL EpiMix.data StartedAt: 2025-11-13 10:57:30 -0500 (Thu, 13 Nov 2025) EndedAt: 2025-11-13 10:57:44 -0500 (Thu, 13 Nov 2025) EllapsedTime: 14.1 seconds RetCode: 0 Status: OK