Package: EpiMix.data Version: 1.13.0 Command: /home/biocbuild/bbs-3.23-bioc/R/bin/R CMD build --keep-empty-dirs --no-resave-data EpiMix.data StartedAt: 2025-11-11 11:16:17 -0500 (Tue, 11 Nov 2025) EndedAt: 2025-11-11 11:16:35 -0500 (Tue, 11 Nov 2025) EllapsedTime: 18.3 seconds RetCode: 0 Status: OK PackageFile: EpiMix.data_1.13.0.tar.gz PackageFileSize: 5.021 MiB