Package: EpiMix.data Version: 1.13.0 Maintainer: Yuanning Zheng MaintainerEmail: eric2021 at stanford.edu git_url: https://git.bioconductor.org/packages/EpiMix.data git_branch: devel git_last_commit: cbd428f git_last_commit_date: 2025-10-29 10:04:57 -0500 (Wed, 29 Oct 2025)