Package: EatonEtAlChIPseq Version: 0.49.0 Command: /home/biocbuild/bbs-3.23-bioc/R/bin/R CMD INSTALL EatonEtAlChIPseq StartedAt: 2025-11-13 11:01:04 -0500 (Thu, 13 Nov 2025) EndedAt: 2025-11-13 11:01:24 -0500 (Thu, 13 Nov 2025) EllapsedTime: 20.8 seconds RetCode: 0 Status: OK