Package: EatonEtAlChIPseq Version: 0.49.0 Command: /home/biocbuild/bbs-3.23-bioc/R/bin/R CMD check --install=check:EatonEtAlChIPseq.install-out.txt --library=/home/biocbuild/bbs-3.23-bioc/R/site-library --timings EatonEtAlChIPseq_0.49.0.tar.gz StartedAt: 2025-11-11 12:16:49 -0500 (Tue, 11 Nov 2025) EndedAt: 2025-11-11 12:19:19 -0500 (Tue, 11 Nov 2025) EllapsedTime: 150.4 seconds RetCode: 0 Status: WARNINGS CheckDir: EatonEtAlChIPseq.Rcheck Warnings: 1