Package: EatonEtAlChIPseq Version: 0.49.0 Maintainer: Patrick Aboyoun MaintainerEmail: paboyoun at fhcrc.org git_url: https://git.bioconductor.org/packages/EatonEtAlChIPseq git_branch: devel git_last_commit: d8e55dd git_last_commit_date: 2025-10-29 09:31:56 -0500 (Wed, 29 Oct 2025)